BEGIN:VCALENDAR
VERSION:2.0
PRODID:-//Cottam United Church - ECPv6.15.19//NONSGML v1.0//EN
CALSCALE:GREGORIAN
METHOD:PUBLISH
X-ORIGINAL-URL:https://cottamunitedchurch.ca
X-WR-CALDESC:Events for Cottam United Church
REFRESH-INTERVAL;VALUE=DURATION:PT1H
X-Robots-Tag:noindex
X-PUBLISHED-TTL:PT1H
BEGIN:VTIMEZONE
TZID:America/Toronto
BEGIN:DAYLIGHT
TZOFFSETFROM:-0500
TZOFFSETTO:-0400
TZNAME:EDT
DTSTART:20240310T070000
END:DAYLIGHT
BEGIN:STANDARD
TZOFFSETFROM:-0400
TZOFFSETTO:-0500
TZNAME:EST
DTSTART:20241103T060000
END:STANDARD
BEGIN:DAYLIGHT
TZOFFSETFROM:-0500
TZOFFSETTO:-0400
TZNAME:EDT
DTSTART:20250309T070000
END:DAYLIGHT
BEGIN:STANDARD
TZOFFSETFROM:-0400
TZOFFSETTO:-0500
TZNAME:EST
DTSTART:20251102T060000
END:STANDARD
BEGIN:DAYLIGHT
TZOFFSETFROM:-0500
TZOFFSETTO:-0400
TZNAME:EDT
DTSTART:20260308T070000
END:DAYLIGHT
BEGIN:STANDARD
TZOFFSETFROM:-0400
TZOFFSETTO:-0500
TZNAME:EST
DTSTART:20261101T060000
END:STANDARD
END:VTIMEZONE
BEGIN:VEVENT
DTSTART;TZID=America/Toronto:20250105T084500
DTEND;TZID=America/Toronto:20250105T093000
DTSTAMP:20260420T144910
CREATED:20240507T161200Z
LAST-MODIFIED:20250217T162843Z
UID:10006327-1736066700-1736069400@cottamunitedchurch.ca
SUMMARY:Worship Team practice
DESCRIPTION:
URL:https://cottamunitedchurch.ca/event/worship-team-practice-2/2025-01-05/
LOCATION:Sanctuary\, 137 County Rd 34 W\, Cottam\, Ontario\, N0R 1B0\, Canada
CATEGORIES:Music
END:VEVENT
BEGIN:VEVENT
DTSTART;TZID=America/Toronto:20250107T190000
DTEND;TZID=America/Toronto:20250107T203000
DTSTAMP:20260420T144910
CREATED:20241231T142633Z
LAST-MODIFIED:20241231T142633Z
UID:10006249-1736276400-1736281800@cottamunitedchurch.ca
SUMMARY:KYIV Committee meeting
DESCRIPTION:
URL:https://cottamunitedchurch.ca/event/kyiv-committee-meeting/
LOCATION:Albuna Room
CATEGORIES:Committee Meetings
ORGANIZER;CN="KYIV Committee":MAILTO:kyiv@cottamunitedchuch.ca
END:VEVENT
BEGIN:VEVENT
DTSTART;TZID=America/Toronto:20250110T093000
DTEND;TZID=America/Toronto:20250110T113000
DTSTAMP:20260420T144910
CREATED:20250102T145659Z
LAST-MODIFIED:20250102T145659Z
UID:10006250-1736501400-1736508600@cottamunitedchurch.ca
SUMMARY:Pack up Christmas Decor
DESCRIPTION:
URL:https://cottamunitedchurch.ca/event/pack-up-christmas-decor/
LOCATION:Sanctuary\, 137 County Rd 34 W\, Cottam\, Ontario\, N0R 1B0\, Canada
CATEGORIES:Other
END:VEVENT
END:VCALENDAR