BEGIN:VCALENDAR
VERSION:2.0
PRODID:-//Cottam United Church - ECPv6.15.19//NONSGML v1.0//EN
CALSCALE:GREGORIAN
METHOD:PUBLISH
X-WR-CALNAME:Cottam United Church
X-ORIGINAL-URL:https://cottamunitedchurch.ca
X-WR-CALDESC:Events for Cottam United Church
REFRESH-INTERVAL;VALUE=DURATION:PT1H
X-Robots-Tag:noindex
X-PUBLISHED-TTL:PT1H
BEGIN:VTIMEZONE
TZID:America/Toronto
BEGIN:DAYLIGHT
TZOFFSETFROM:-0500
TZOFFSETTO:-0400
TZNAME:EDT
DTSTART:20240310T070000
END:DAYLIGHT
BEGIN:STANDARD
TZOFFSETFROM:-0400
TZOFFSETTO:-0500
TZNAME:EST
DTSTART:20241103T060000
END:STANDARD
BEGIN:DAYLIGHT
TZOFFSETFROM:-0500
TZOFFSETTO:-0400
TZNAME:EDT
DTSTART:20250309T070000
END:DAYLIGHT
BEGIN:STANDARD
TZOFFSETFROM:-0400
TZOFFSETTO:-0500
TZNAME:EST
DTSTART:20251102T060000
END:STANDARD
BEGIN:DAYLIGHT
TZOFFSETFROM:-0500
TZOFFSETTO:-0400
TZNAME:EDT
DTSTART:20260308T070000
END:DAYLIGHT
BEGIN:STANDARD
TZOFFSETFROM:-0400
TZOFFSETTO:-0500
TZNAME:EST
DTSTART:20261101T060000
END:STANDARD
END:VTIMEZONE
BEGIN:VEVENT
DTSTART;TZID=America/Toronto:20250123T190000
DTEND;TZID=America/Toronto:20250123T200000
DTSTAMP:20260420T163645
CREATED:20250109T173636Z
LAST-MODIFIED:20250109T173636Z
UID:10006260-1737658800-1737662400@cottamunitedchurch.ca
SUMMARY:Turkey Captains De-briefing meeting
DESCRIPTION:
URL:https://cottamunitedchurch.ca/event/turkey-captains-de-briefing-meeting/
LOCATION:Old Hall\, 137 County Rd 34 W\, Cottam\, Ontario\, N0R 1B0\, Canada
CATEGORIES:Committee Meetings
END:VEVENT
BEGIN:VEVENT
DTSTART;TZID=America/Toronto:20250126T084500
DTEND;TZID=America/Toronto:20250126T093000
DTSTAMP:20260420T163645
CREATED:20240507T161200Z
LAST-MODIFIED:20250217T162843Z
UID:10006330-1737881100-1737883800@cottamunitedchurch.ca
SUMMARY:Worship Team practice
DESCRIPTION:
URL:https://cottamunitedchurch.ca/event/worship-team-practice-2/2025-01-26/
LOCATION:Sanctuary\, 137 County Rd 34 W\, Cottam\, Ontario\, N0R 1B0\, Canada
CATEGORIES:Music
END:VEVENT
BEGIN:VEVENT
DTSTART;TZID=America/Toronto:20250208T130000
DTEND;TZID=America/Toronto:20250208T150000
DTSTAMP:20260420T163645
CREATED:20250130T162607Z
LAST-MODIFIED:20250130T162607Z
UID:10006269-1739019600-1739026800@cottamunitedchurch.ca
SUMMARY:Making pot pies
DESCRIPTION:
URL:https://cottamunitedchurch.ca/event/making-pot-pies/2025-02-08/
LOCATION:Kitchen
CATEGORIES:Committee Meetings
END:VEVENT
BEGIN:VEVENT
DTSTART;TZID=America/Toronto:20250210T083000
DTEND;TZID=America/Toronto:20250210T120000
DTSTAMP:20260420T163645
CREATED:20250130T162815Z
LAST-MODIFIED:20250130T162815Z
UID:10006271-1739176200-1739188800@cottamunitedchurch.ca
SUMMARY:Making pot pies
DESCRIPTION:
URL:https://cottamunitedchurch.ca/event/making-pot-pies-2/2025-02-10/
LOCATION:Kitchen
CATEGORIES:Other
END:VEVENT
BEGIN:VEVENT
DTSTART;TZID=America/Toronto:20250216T120000
DTEND;TZID=America/Toronto:20250216T140000
DTSTAMP:20260420T163645
CREATED:20241219T154739Z
LAST-MODIFIED:20241219T154739Z
UID:10006192-1739707200-1739714400@cottamunitedchurch.ca
SUMMARY:Annual Congregational Meeting
DESCRIPTION:
URL:https://cottamunitedchurch.ca/event/annual-congregational-meeting-2/
LOCATION:Fellowship Hall
CATEGORIES:Committee Meetings
END:VEVENT
BEGIN:VEVENT
DTSTART;TZID=America/Toronto:20250223T100000
DTEND;TZID=America/Toronto:20250223T120000
DTSTAMP:20260420T163645
CREATED:20241018T164621Z
LAST-MODIFIED:20241018T164750Z
UID:10006000-1740304800-1740312000@cottamunitedchurch.ca
SUMMARY:Teen Challenge guests
DESCRIPTION:Welcome guests from Teen Challenge as they share their testimonies of freedom from addictions through faith.  We will also share a pot-blessing lunch.
URL:https://cottamunitedchurch.ca/event/teen-challenge-guests/
LOCATION:Cottam United Church\, 137 County Rd 34 W\, Cottam\, Ontario\, N0R 1B0\, Canada
CATEGORIES:Special Worships
ORGANIZER;CN="Worship Committee":MAILTO:info@cottamunitedchurch.ca
END:VEVENT
BEGIN:VEVENT
DTSTART;TZID=America/Toronto:20250227T070000
DTEND;TZID=America/Toronto:20250227T230000
DTSTAMP:20260420T163645
CREATED:20250205T143521Z
LAST-MODIFIED:20250205T143521Z
UID:10006278-1740639600-1740697200@cottamunitedchurch.ca
SUMMARY:Elections Ontario Polling Place
DESCRIPTION:
URL:https://cottamunitedchurch.ca/event/elections-ontario-polling-place/
LOCATION:Fellowship Hall
CATEGORIES:Other
END:VEVENT
BEGIN:VEVENT
DTSTART;TZID=America/Toronto:20250302T100000
DTEND;TZID=America/Toronto:20250302T111500
DTSTAMP:20260420T163645
CREATED:20250217T162347Z
LAST-MODIFIED:20250217T162347Z
UID:10006292-1740909600-1740914100@cottamunitedchurch.ca
SUMMARY:Baden-Powell Sunday
DESCRIPTION:
URL:https://cottamunitedchurch.ca/event/baden-powell-sunday/
LOCATION:Sanctuary\, 137 County Rd 34 W\, Cottam\, Ontario\, N0R 1B0\, Canada
CATEGORIES:Special Worships
END:VEVENT
BEGIN:VEVENT
DTSTART;TZID=America/Toronto:20250315T090000
DTEND;TZID=America/Toronto:20250315T130000
DTSTAMP:20260420T163645
CREATED:20250110T190045Z
LAST-MODIFIED:20250110T190045Z
UID:10006262-1742029200-1742043600@cottamunitedchurch.ca
SUMMARY:Fresh Start Session
DESCRIPTION:
URL:https://cottamunitedchurch.ca/event/fresh-start-session/
LOCATION:Sanctuary\, 137 County Rd 34 W\, Cottam\, Ontario\, N0R 1B0\, Canada
CATEGORIES:Study Group
END:VEVENT
BEGIN:VEVENT
DTSTART;TZID=America/Toronto:20250317T190000
DTEND;TZID=America/Toronto:20250317T203000
DTSTAMP:20260420T163645
CREATED:20250306T143818Z
LAST-MODIFIED:20250306T143818Z
UID:10006599-1742238000-1742243400@cottamunitedchurch.ca
SUMMARY:Property Committee Meeting
DESCRIPTION:
URL:https://cottamunitedchurch.ca/event/property-committee-meeting/
LOCATION:Cottam United Church\, 137 County Rd 34 W\, Cottam\, Ontario\, N0R 1B0\, Canada
CATEGORIES:Committee Meetings
END:VEVENT
BEGIN:VEVENT
DTSTART;TZID=America/Toronto:20250318T183000
DTEND;TZID=America/Toronto:20250318T210000
DTSTAMP:20260420T163645
CREATED:20250227T141416Z
LAST-MODIFIED:20250227T141416Z
UID:10006598-1742322600-1742331600@cottamunitedchurch.ca
SUMMARY:Rotary Club of Cottam meeting
DESCRIPTION:
URL:https://cottamunitedchurch.ca/event/rotary-club-of-cottam-meeting/
LOCATION:Fellowship Hall
CATEGORIES:Community Group
END:VEVENT
BEGIN:VEVENT
DTSTART;TZID=America/Toronto:20250319T120000
DTEND;TZID=America/Toronto:20250319T130000
DTSTAMP:20260420T163645
CREATED:20250122T170210Z
LAST-MODIFIED:20250122T170210Z
UID:10006266-1742385600-1742389200@cottamunitedchurch.ca
SUMMARY:Lenten Service
DESCRIPTION:at 12 noon\, with light lunch to follow
URL:https://cottamunitedchurch.ca/event/lenten-service/
LOCATION:Cottam United Church\, 137 County Rd 34 W\, Cottam\, Ontario\, N0R 1B0\, Canada
CATEGORIES:Special Worships
END:VEVENT
BEGIN:VEVENT
DTSTART;TZID=America/Toronto:20250325T180000
DTEND;TZID=America/Toronto:20250325T210000
DTSTAMP:20260420T163645
CREATED:20250122T145428Z
LAST-MODIFIED:20250122T145428Z
UID:10006263-1742925600-1742936400@cottamunitedchurch.ca
SUMMARY:Gosfieldtel AGM
DESCRIPTION:
URL:https://cottamunitedchurch.ca/event/gosfieldtel-agm/
LOCATION:Fellowship Hall
CATEGORIES:Community Group
END:VEVENT
BEGIN:VEVENT
DTSTART;TZID=America/Toronto:20250405T090000
DTEND;TZID=America/Toronto:20250405T140000
DTSTAMP:20260420T163645
CREATED:20250320T144052Z
LAST-MODIFIED:20250321T132320Z
UID:10006601-1743843600-1743861600@cottamunitedchurch.ca
SUMMARY:Memorial Service
DESCRIPTION:For Elizabeth MacCara \nVisitation 11-12 \nService 12:00 \nLuncheon following
URL:https://cottamunitedchurch.ca/event/memorial-service-2/
LOCATION:Cottam United Church\, 137 County Rd 34 W\, Cottam\, Ontario\, N0R 1B0\, Canada
CATEGORIES:Other
END:VEVENT
BEGIN:VEVENT
DTSTART;TZID=America/Toronto:20250412T123000
DTEND;TZID=America/Toronto:20250412T143000
DTSTAMP:20260420T163645
CREATED:20250212T161955Z
LAST-MODIFIED:20250324T135755Z
UID:10006281-1744461000-1744468200@cottamunitedchurch.ca
SUMMARY:Turkey Pot Pies pick up
DESCRIPTION:
URL:https://cottamunitedchurch.ca/event/turkey-pot-pies-pick-up/
LOCATION:Fellowship Hall
CATEGORIES:Other
END:VEVENT
BEGIN:VEVENT
DTSTART;TZID=America/Toronto:20250428T090000
DTEND;TZID=America/Toronto:20250428T210000
DTSTAMP:20260420T163645
CREATED:20250327T132040Z
LAST-MODIFIED:20250327T132040Z
UID:10006681-1745830800-1745874000@cottamunitedchurch.ca
SUMMARY:Federal Election Polling Place
DESCRIPTION:
URL:https://cottamunitedchurch.ca/event/federal-election-polling-place/
LOCATION:Fellowship Hall
CATEGORIES:Other
END:VEVENT
BEGIN:VEVENT
DTSTART;TZID=America/Toronto:20250513T193000
DTEND;TZID=America/Toronto:20250513T210000
DTSTAMP:20260420T163645
CREATED:20250122T170052Z
LAST-MODIFIED:20250416T152339Z
UID:10006265-1747164600-1747170000@cottamunitedchurch.ca
SUMMARY:Social Media and Technology Team meeting
DESCRIPTION:
URL:https://cottamunitedchurch.ca/event/social-media-and-technology-team-meeting/
LOCATION:online
CATEGORIES:Committee Meetings
END:VEVENT
BEGIN:VEVENT
DTSTART;TZID=America/Toronto:20250608T100000
DTEND;TZID=America/Toronto:20250608T110000
DTSTAMP:20260420T163645
CREATED:20250602T224730Z
LAST-MODIFIED:20250602T224730Z
UID:10006986-1749376800-1749380400@cottamunitedchurch.ca
SUMMARY:Sunday Worship & Jr. Church
DESCRIPTION:
URL:https://cottamunitedchurch.ca/event/sunday-worship-jr-church-2/2025-06-08/
LOCATION:Cottam United Church\, 137 County Rd 34 W\, Cottam\, Ontario\, N0R 1B0\, Canada
CATEGORIES:Fellowship
END:VEVENT
BEGIN:VEVENT
DTSTART;TZID=America/Toronto:20250621T170000
DTEND;TZID=America/Toronto:20250621T220000
DTSTAMP:20260420T163645
CREATED:20250602T224950Z
LAST-MODIFIED:20250602T224950Z
UID:10007248-1750525200-1750543200@cottamunitedchurch.ca
SUMMARY:Cottam Block Party
DESCRIPTION:
URL:https://cottamunitedchurch.ca/event/cottam-block-party/
LOCATION:Other\, Canada
CATEGORIES:Community Event
END:VEVENT
BEGIN:VEVENT
DTSTART;TZID=America/Toronto:20250622T111500
DTEND;TZID=America/Toronto:20250622T140000
DTSTAMP:20260420T163645
CREATED:20250610T151357Z
LAST-MODIFIED:20250610T151357Z
UID:10007250-1750590900-1750600800@cottamunitedchurch.ca
SUMMARY:Jr. Church Barbeque
DESCRIPTION:
URL:https://cottamunitedchurch.ca/event/jr-church-barbeque/
LOCATION:Fellowship Hall
CATEGORIES:Fellowship
END:VEVENT
BEGIN:VEVENT
DTSTART;TZID=America/Toronto:20250626T190000
DTEND;TZID=America/Toronto:20250626T203000
DTSTAMP:20260420T163645
CREATED:20250122T165855Z
LAST-MODIFIED:20250502T164902Z
UID:10006264-1750964400-1750969800@cottamunitedchurch.ca
SUMMARY:Events committee meeting
DESCRIPTION:
URL:https://cottamunitedchurch.ca/event/events-committee-meeting-2/
LOCATION:Church office\, 137 County Rd 34 W\, Cottam\, Ontario\, N0R 1B0\, Canada
CATEGORIES:Committee Meetings
END:VEVENT
BEGIN:VEVENT
DTSTART;TZID=America/Toronto:20250717T190000
DTEND;TZID=America/Toronto:20250717T203000
DTSTAMP:20260420T163645
CREATED:20250602T224157Z
LAST-MODIFIED:20250606T141342Z
UID:10006725-1752778800-1752784200@cottamunitedchurch.ca
SUMMARY:Constitution Review Committee meeting
DESCRIPTION:
URL:https://cottamunitedchurch.ca/event/constitution-review-committee-meeting/
LOCATION:Cottam United Church\, 137 County Rd 34 W\, Cottam\, Ontario\, N0R 1B0\, Canada
CATEGORIES:Committee Meetings
END:VEVENT
BEGIN:VEVENT
DTSTART;TZID=America/Toronto:20250827T133000
DTEND;TZID=America/Toronto:20250827T160000
DTSTAMP:20260420T163645
CREATED:20250826T182236Z
LAST-MODIFIED:20250826T182236Z
UID:10007278-1756301400-1756310400@cottamunitedchurch.ca
SUMMARY:Kitchen rental
DESCRIPTION:
URL:https://cottamunitedchurch.ca/event/kitchen-rental-2/2025-08-27/
LOCATION:Kitchen
CATEGORIES:Community Group
END:VEVENT
BEGIN:VEVENT
DTSTART;TZID=America/Toronto:20250908T133000
DTEND;TZID=America/Toronto:20250908T160000
DTSTAMP:20260420T163645
CREATED:20250826T182435Z
LAST-MODIFIED:20250826T182435Z
UID:10007280-1757338200-1757347200@cottamunitedchurch.ca
SUMMARY:Kitchen rental
DESCRIPTION:
URL:https://cottamunitedchurch.ca/event/kitchen-rental-3/2025-09-08/
LOCATION:Kitchen
CATEGORIES:Community Group
END:VEVENT
BEGIN:VEVENT
DTSTART;TZID=America/Toronto:20250916T190000
DTEND;TZID=America/Toronto:20250916T203000
DTSTAMP:20260420T163645
CREATED:20250902T151229Z
LAST-MODIFIED:20250916T132033Z
UID:10007559-1758049200-1758054600@cottamunitedchurch.ca
SUMMARY:S M & T meeting
DESCRIPTION:
URL:https://cottamunitedchurch.ca/event/s-m-t-meeting-online/
LOCATION:Sanctuary\, 137 County Rd 34 W\, Cottam\, Ontario\, N0R 1B0\, Canada
CATEGORIES:Committee Meetings
END:VEVENT
BEGIN:VEVENT
DTSTART;TZID=America/Toronto:20250918T190000
DTEND;TZID=America/Toronto:20250918T203000
DTSTAMP:20260420T163645
CREATED:20250902T151333Z
LAST-MODIFIED:20250902T151333Z
UID:10007560-1758222000-1758227400@cottamunitedchurch.ca
SUMMARY:Turkey Dinner Planning meeting
DESCRIPTION:
URL:https://cottamunitedchurch.ca/event/turkey-dinner-planning-meeting/
LOCATION:Fellowship Hall
CATEGORIES:Committee Meetings
END:VEVENT
BEGIN:VEVENT
DTSTART;TZID=America/Toronto:20250921T100000
DTEND;TZID=America/Toronto:20250921T130000
DTSTAMP:20260420T163645
CREATED:20250819T135557Z
LAST-MODIFIED:20250819T135557Z
UID:10007257-1758448800-1758459600@cottamunitedchurch.ca
SUMMARY:Welcome Back BBQ
DESCRIPTION:Welcome back everyone and Junior Church!  We will celebrate with a “Welcome Back BBQ” after worship\, hosted by our Christian Education Committee.  Please bring a side dish to go with hotdogs.  There will be games and fun for everyone!
URL:https://cottamunitedchurch.ca/event/welcome-back-bbq-2/
LOCATION:Cottam United Church\, 137 County Rd 34 W\, Cottam\, Ontario\, N0R 1B0\, Canada
CATEGORIES:Fellowship
END:VEVENT
BEGIN:VEVENT
DTSTART;TZID=America/Toronto:20250930T190000
DTEND;TZID=America/Toronto:20250930T203000
DTSTAMP:20260420T163645
CREATED:20250925T130945Z
LAST-MODIFIED:20250925T130945Z
UID:10007580-1759258800-1759264200@cottamunitedchurch.ca
SUMMARY:Constitution Review Committee
DESCRIPTION:
URL:https://cottamunitedchurch.ca/event/constitution-review-committee/
LOCATION:Pastor’s Office
CATEGORIES:Committee Meetings
END:VEVENT
BEGIN:VEVENT
DTSTART;TZID=America/Toronto:20251001T190000
DTEND;TZID=America/Toronto:20251001T201500
DTSTAMP:20260420T163645
CREATED:20250925T143433Z
LAST-MODIFIED:20251113T135222Z
UID:10007581-1759345200-1759349700@cottamunitedchurch.ca
SUMMARY:Adult choir practice
DESCRIPTION:
URL:https://cottamunitedchurch.ca/event/adult-choir-practice/2025-10-01/
LOCATION:Sanctuary\, 137 County Rd 34 W\, Cottam\, Ontario\, N0R 1B0\, Canada
CATEGORIES:Music
END:VEVENT
BEGIN:VEVENT
DTSTART;TZID=America/Toronto:20251009T183000
DTEND;TZID=America/Toronto:20251009T191500
DTSTAMP:20260420T163645
CREATED:20251015T131615Z
LAST-MODIFIED:20251015T162646Z
UID:10007646-1760034600-1760037300@cottamunitedchurch.ca
SUMMARY:Junior Choir practice
DESCRIPTION:
URL:https://cottamunitedchurch.ca/event/junior-choir-practice/2025-10-09/
LOCATION:Sanctuary\, 137 County Rd 34 W\, Cottam\, Ontario\, N0R 1B0\, Canada
CATEGORIES:Music
END:VEVENT
END:VCALENDAR