BEGIN:VCALENDAR
VERSION:2.0
PRODID:-//Cottam United Church - ECPv6.15.19//NONSGML v1.0//EN
CALSCALE:GREGORIAN
METHOD:PUBLISH
X-ORIGINAL-URL:https://cottamunitedchurch.ca
X-WR-CALDESC:Events for Cottam United Church
REFRESH-INTERVAL;VALUE=DURATION:PT1H
X-Robots-Tag:noindex
X-PUBLISHED-TTL:PT1H
BEGIN:VTIMEZONE
TZID:America/Toronto
BEGIN:DAYLIGHT
TZOFFSETFROM:-0500
TZOFFSETTO:-0400
TZNAME:EDT
DTSTART:20250309T070000
END:DAYLIGHT
BEGIN:STANDARD
TZOFFSETFROM:-0400
TZOFFSETTO:-0500
TZNAME:EST
DTSTART:20251102T060000
END:STANDARD
BEGIN:DAYLIGHT
TZOFFSETFROM:-0500
TZOFFSETTO:-0400
TZNAME:EDT
DTSTART:20260308T070000
END:DAYLIGHT
BEGIN:STANDARD
TZOFFSETFROM:-0400
TZOFFSETTO:-0500
TZNAME:EST
DTSTART:20261101T060000
END:STANDARD
BEGIN:DAYLIGHT
TZOFFSETFROM:-0500
TZOFFSETTO:-0400
TZNAME:EDT
DTSTART:20270314T070000
END:DAYLIGHT
BEGIN:STANDARD
TZOFFSETFROM:-0400
TZOFFSETTO:-0500
TZNAME:EST
DTSTART:20271107T060000
END:STANDARD
END:VTIMEZONE
BEGIN:VEVENT
DTSTART;TZID=America/Toronto:20260417T090000
DTEND;TZID=America/Toronto:20260417T110000
DTSTAMP:20260421T020501
CREATED:20260414T205237Z
LAST-MODIFIED:20260414T205237Z
UID:10007997-1776416400-1776423600@cottamunitedchurch.ca
SUMMARY:Chili Prep
DESCRIPTION:
URL:https://cottamunitedchurch.ca/event/chili-prep/
LOCATION:Kitchen
CATEGORIES:Other
END:VEVENT
BEGIN:VEVENT
DTSTART;TZID=America/Toronto:20260419T111500
DTEND;TZID=America/Toronto:20260419T121500
DTSTAMP:20260421T020501
CREATED:20260407T163144Z
LAST-MODIFIED:20260407T163144Z
UID:10007991-1776597300-1776600900@cottamunitedchurch.ca
SUMMARY:Chili Lunch
DESCRIPTION:
URL:https://cottamunitedchurch.ca/event/chili-lunch-2/
LOCATION:Sanctuary\, 137 County Rd 34 W\, Cottam\, Ontario\, N0R 1B0\, Canada
CATEGORIES:Fellowship
END:VEVENT
BEGIN:VEVENT
DTSTART;TZID=America/Toronto:20260423T183000
DTEND;TZID=America/Toronto:20260423T200000
DTSTAMP:20260421T020501
CREATED:20260418T231137Z
LAST-MODIFIED:20260418T231137Z
UID:10008001-1776969000-1776974400@cottamunitedchurch.ca
SUMMARY:Website meeting
DESCRIPTION:
URL:https://cottamunitedchurch.ca/event/website-meeting/
LOCATION:Church office\, 137 County Rd 34 W\, Cottam\, Ontario\, N0R 1B0\, Canada
CATEGORIES:Committee Meetings
END:VEVENT
BEGIN:VEVENT
DTSTART;TZID=America/Toronto:20260425T090000
DTEND;TZID=America/Toronto:20260425T120000
DTSTAMP:20260421T020501
CREATED:20260213T153741Z
LAST-MODIFIED:20260213T153741Z
UID:10007855-1777107600-1777118400@cottamunitedchurch.ca
SUMMARY:Garden & Outdoor Clean-up
DESCRIPTION:
URL:https://cottamunitedchurch.ca/event/garden-outdoor-clean-up/
LOCATION:Cottam United Church\, 137 County Rd 34 W\, Cottam\, Ontario\, N0R 1B0\, Canada
CATEGORIES:Other
END:VEVENT
BEGIN:VEVENT
DTSTART;TZID=America/Toronto:20260429T190000
DTEND;TZID=America/Toronto:20260429T203000
DTSTAMP:20260421T020501
CREATED:20260122T161726Z
LAST-MODIFIED:20260122T161726Z
UID:10007828-1777489200-1777494600@cottamunitedchurch.ca
SUMMARY:Pastoral Care & Visitation Committee meeting
DESCRIPTION:
URL:https://cottamunitedchurch.ca/event/pastoral-care-visitation-committee-meeting-2/
LOCATION:Pastor’s Office
CATEGORIES:Committee Meetings
END:VEVENT
BEGIN:VEVENT
DTSTART;TZID=America/Toronto:20260502T090000
DTEND;TZID=America/Toronto:20260502T170000
DTSTAMP:20260421T020501
CREATED:20260213T153958Z
LAST-MODIFIED:20260213T153958Z
UID:10007856-1777712400-1777741200@cottamunitedchurch.ca
SUMMARY:Hall rental
DESCRIPTION:
URL:https://cottamunitedchurch.ca/event/hall-rental-2/
LOCATION:Fellowship Hall
CATEGORIES:Other
END:VEVENT
BEGIN:VEVENT
DTSTART;TZID=America/Toronto:20260503T100000
DTEND;TZID=America/Toronto:20260503T130000
DTSTAMP:20260421T020501
CREATED:20260114T200144Z
LAST-MODIFIED:20260213T153843Z
UID:10007825-1777802400-1777813200@cottamunitedchurch.ca
SUMMARY:159th Anniversary Sunday & Pot-blessing Lunch
DESCRIPTION:Celebrating 159 years of the congregation of Cottam United Church.  Pot-blessing lunch to follow worship.
URL:https://cottamunitedchurch.ca/event/159th-anniversary-sunday/
LOCATION:Cottam United Church\, 137 County Rd 34 W\, Cottam\, Ontario\, N0R 1B0\, Canada
CATEGORIES:Fellowship,Special Worships
END:VEVENT
BEGIN:VEVENT
DTSTART;TZID=America/Toronto:20260505T183000
DTEND;TZID=America/Toronto:20260505T200000
DTSTAMP:20260421T020501
CREATED:20260409T221711Z
LAST-MODIFIED:20260409T221711Z
UID:10007994-1778005800-1778011200@cottamunitedchurch.ca
SUMMARY:Search Team Office Admin meeting
DESCRIPTION:
URL:https://cottamunitedchurch.ca/event/search-team-office-admin-meeting-3/
LOCATION:Pastor’s Office
CATEGORIES:Committee Meetings
END:VEVENT
BEGIN:VEVENT
DTSTART;TZID=America/Toronto:20260509T090000
DTEND;TZID=America/Toronto:20260509T120000
DTSTAMP:20260421T020501
CREATED:20260213T154050Z
LAST-MODIFIED:20260213T154050Z
UID:10007857-1778317200-1778328000@cottamunitedchurch.ca
SUMMARY:Rain date Garden Clean-up
DESCRIPTION:
URL:https://cottamunitedchurch.ca/event/rain-date-garden-clean-up/
LOCATION:Cottam United Church\, 137 County Rd 34 W\, Cottam\, Ontario\, N0R 1B0\, Canada
CATEGORIES:Other
END:VEVENT
BEGIN:VEVENT
DTSTART;TZID=America/Toronto:20260509T120000
DTEND;TZID=America/Toronto:20260509T170000
DTSTAMP:20260421T020501
CREATED:20260418T230907Z
LAST-MODIFIED:20260418T230907Z
UID:10008000-1778328000-1778346000@cottamunitedchurch.ca
SUMMARY:Hall Rental
DESCRIPTION:
URL:https://cottamunitedchurch.ca/event/hall-rental-8/
LOCATION:Fellowship Hall
CATEGORIES:Other
END:VEVENT
BEGIN:VEVENT
DTSTART;TZID=America/Toronto:20260512T190000
DTEND;TZID=America/Toronto:20260512T203000
DTSTAMP:20260421T020501
CREATED:20260416T141618Z
LAST-MODIFIED:20260416T141712Z
UID:10007999-1778612400-1778617800@cottamunitedchurch.ca
SUMMARY:Worship Committee meeting
DESCRIPTION:
URL:https://cottamunitedchurch.ca/event/hall-rental-5/
LOCATION:Albuna Room
CATEGORIES:Committee Meetings
ORGANIZER;CN="Worship Committee":MAILTO:info@cottamunitedchurch.ca
END:VEVENT
BEGIN:VEVENT
DTSTART;TZID=America/Toronto:20260522T190000
DTEND;TZID=America/Toronto:20260522T213000
DTSTAMP:20260421T020501
CREATED:20260414T205338Z
LAST-MODIFIED:20260414T205338Z
UID:10007998-1779476400-1779485400@cottamunitedchurch.ca
SUMMARY:Game Night
DESCRIPTION:
URL:https://cottamunitedchurch.ca/event/game-night-2/
LOCATION:Fellowship Hall
CATEGORIES:Community Event
END:VEVENT
BEGIN:VEVENT
DTSTART;TZID=America/Toronto:20260603T100000
DTEND;TZID=America/Toronto:20260603T113000
DTSTAMP:20260421T020501
CREATED:20250604T180718Z
LAST-MODIFIED:20260306T170634Z
UID:10007249-1780480800-1780486200@cottamunitedchurch.ca
SUMMARY:Mission & Outreach Committee meeting
DESCRIPTION:
URL:https://cottamunitedchurch.ca/event/mission-outreach-committee-meeting/
LOCATION:Pastor’s Office
CATEGORIES:Committee Meetings
END:VEVENT
BEGIN:VEVENT
DTSTART;TZID=America/Toronto:20260606T093000
DTEND;TZID=America/Toronto:20260606T130000
DTSTAMP:20260421T020501
CREATED:20250602T224843Z
LAST-MODIFIED:20251229T170226Z
UID:10007247-1780738200-1780750800@cottamunitedchurch.ca
SUMMARY:Hot Dog Sales\, Yard Sale Day
DESCRIPTION:
URL:https://cottamunitedchurch.ca/event/hot-dog-sales-yard-sale-day/
LOCATION:Cottam United Church\, 137 County Rd 34 W\, Cottam\, Ontario\, N0R 1B0\, Canada
CATEGORIES:Community Event
END:VEVENT
BEGIN:VEVENT
DTSTART;TZID=America/Toronto:20260620T170000
DTEND;TZID=America/Toronto:20260620T220000
DTSTAMP:20260421T020501
CREATED:20260313T161656Z
LAST-MODIFIED:20260313T161656Z
UID:10007986-1781974800-1781992800@cottamunitedchurch.ca
SUMMARY:Cottam Block Party
DESCRIPTION:
URL:https://cottamunitedchurch.ca/event/cottam-block-party-2/
LOCATION:Other\, Canada
CATEGORIES:Community Event
END:VEVENT
BEGIN:VEVENT
DTSTART;TZID=America/Toronto:20261122T123000
DTEND;TZID=America/Toronto:20261122T160000
DTSTAMP:20260421T020501
CREATED:20260330T150644Z
LAST-MODIFIED:20260330T150644Z
UID:10007988-1795350600-1795363200@cottamunitedchurch.ca
SUMMARY:Hall Rental
DESCRIPTION:
URL:https://cottamunitedchurch.ca/event/hall-rental-3/
LOCATION:Fellowship Hall
CATEGORIES:Community Group
END:VEVENT
END:VCALENDAR