BEGIN:VCALENDAR
VERSION:2.0
PRODID:-//Cottam United Church - ECPv6.15.19//NONSGML v1.0//EN
CALSCALE:GREGORIAN
METHOD:PUBLISH
X-ORIGINAL-URL:https://cottamunitedchurch.ca
X-WR-CALDESC:Events for Cottam United Church
REFRESH-INTERVAL;VALUE=DURATION:PT1H
X-Robots-Tag:noindex
X-PUBLISHED-TTL:PT1H
BEGIN:VTIMEZONE
TZID:America/Toronto
BEGIN:DAYLIGHT
TZOFFSETFROM:-0500
TZOFFSETTO:-0400
TZNAME:EDT
DTSTART:20250309T070000
END:DAYLIGHT
BEGIN:STANDARD
TZOFFSETFROM:-0400
TZOFFSETTO:-0500
TZNAME:EST
DTSTART:20251102T060000
END:STANDARD
BEGIN:DAYLIGHT
TZOFFSETFROM:-0500
TZOFFSETTO:-0400
TZNAME:EDT
DTSTART:20260308T070000
END:DAYLIGHT
BEGIN:STANDARD
TZOFFSETFROM:-0400
TZOFFSETTO:-0500
TZNAME:EST
DTSTART:20261101T060000
END:STANDARD
BEGIN:DAYLIGHT
TZOFFSETFROM:-0500
TZOFFSETTO:-0400
TZNAME:EDT
DTSTART:20270314T070000
END:DAYLIGHT
BEGIN:STANDARD
TZOFFSETFROM:-0400
TZOFFSETTO:-0500
TZNAME:EST
DTSTART:20271107T060000
END:STANDARD
END:VTIMEZONE
BEGIN:VEVENT
DTSTART;TZID=America/Toronto:20260121T190000
DTEND;TZID=America/Toronto:20260121T203000
DTSTAMP:20260420T124500
CREATED:20250409T162606Z
LAST-MODIFIED:20260102T135904Z
UID:10006696-1769022000-1769027400@cottamunitedchurch.ca
SUMMARY:Pastoral Care & Visitation Committee meeting
DESCRIPTION:
URL:https://cottamunitedchurch.ca/event/pastoral-care-visitation-committee-meeting/
LOCATION:Pastor’s Office
CATEGORIES:Committee Meetings
END:VEVENT
BEGIN:VEVENT
DTSTART;TZID=America/Toronto:20260128T183000
DTEND;TZID=America/Toronto:20260128T200000
DTSTAMP:20260420T124500
CREATED:20260121T153102Z
LAST-MODIFIED:20260121T153102Z
UID:10007826-1769625000-1769630400@cottamunitedchurch.ca
SUMMARY:Children's Education Committee meeting
DESCRIPTION:
URL:https://cottamunitedchurch.ca/event/childrens-education-committee-meeting/
LOCATION:Albuna Room
CATEGORIES:Committee Meetings
END:VEVENT
BEGIN:VEVENT
DTSTART;TZID=America/Toronto:20260208T120000
DTEND;TZID=America/Toronto:20260208T140000
DTSTAMP:20260420T124500
CREATED:20260101T150618Z
LAST-MODIFIED:20260101T150618Z
UID:10007819-1770552000-1770559200@cottamunitedchurch.ca
SUMMARY:Annual Congregational Meeting
DESCRIPTION:
URL:https://cottamunitedchurch.ca/event/annual-congregational-meeting-3/
LOCATION:Cottam United Church\, 137 County Rd 34 W\, Cottam\, Ontario\, N0R 1B0\, Canada
CATEGORIES:Committee Meetings
END:VEVENT
BEGIN:VEVENT
DTSTART;TZID=America/Toronto:20260217T190000
DTEND;TZID=America/Toronto:20260217T203000
DTSTAMP:20260420T124500
CREATED:20260213T152705Z
LAST-MODIFIED:20260213T152705Z
UID:10007852-1771354800-1771360200@cottamunitedchurch.ca
SUMMARY:Church Board meeting
DESCRIPTION:
URL:https://cottamunitedchurch.ca/event/church-board-meeting-2/
LOCATION:Fellowship Hall
CATEGORIES:Committee Meetings
END:VEVENT
BEGIN:VEVENT
DTSTART;TZID=America/Toronto:20260317T190000
DTEND;TZID=America/Toronto:20260317T203000
DTSTAMP:20260420T124500
CREATED:20260218T193703Z
LAST-MODIFIED:20260218T193703Z
UID:10007858-1773774000-1773779400@cottamunitedchurch.ca
SUMMARY:Church Board meeting
DESCRIPTION:
URL:https://cottamunitedchurch.ca/event/church-board-meeting-3/2026-03-17/
LOCATION:Cottam United Church\, 137 County Rd 34 W\, Cottam\, Ontario\, N0R 1B0\, Canada
CATEGORIES:Committee Meetings
END:VEVENT
BEGIN:VEVENT
DTSTART;TZID=America/Toronto:20260318T150000
DTEND;TZID=America/Toronto:20260318T160000
DTSTAMP:20260420T124500
CREATED:20260306T170540Z
LAST-MODIFIED:20260306T170540Z
UID:10007982-1773846000-1773849600@cottamunitedchurch.ca
SUMMARY:Search Team (Office Admin) meeting
DESCRIPTION:
URL:https://cottamunitedchurch.ca/event/search-team-office-admin-meeting/
LOCATION:Pastor’s Office
CATEGORIES:Committee Meetings
END:VEVENT
BEGIN:VEVENT
DTSTART;TZID=America/Toronto:20260324T190000
DTEND;TZID=America/Toronto:20260324T203000
DTSTAMP:20260420T124500
CREATED:20250212T161814Z
LAST-MODIFIED:20260306T170422Z
UID:10006280-1774378800-1774384200@cottamunitedchurch.ca
SUMMARY:Worship Committee meeting
DESCRIPTION:
URL:https://cottamunitedchurch.ca/event/worship-committee-meeting-3/
LOCATION:Albuna Room
CATEGORIES:Committee Meetings
ORGANIZER;CN="Worship Committee":MAILTO:info@cottamunitedchurch.ca
END:VEVENT
BEGIN:VEVENT
DTSTART;TZID=America/Toronto:20260407T190000
DTEND;TZID=America/Toronto:20260407T203000
DTSTAMP:20260420T124500
CREATED:20260219T135458Z
LAST-MODIFIED:20260409T221838Z
UID:10007922-1775588400-1775593800@cottamunitedchurch.ca
SUMMARY:Social Media & Technology Committee meeting
DESCRIPTION:
URL:https://cottamunitedchurch.ca/event/social-media-technology-committee-meeting/2026-04-07/
LOCATION:online
CATEGORIES:Committee Meetings
END:VEVENT
BEGIN:VEVENT
DTSTART;TZID=America/Toronto:20260408T160000
DTEND;TZID=America/Toronto:20260408T173000
DTSTAMP:20260420T124500
CREATED:20260319T130927Z
LAST-MODIFIED:20260319T130927Z
UID:10007987-1775664000-1775669400@cottamunitedchurch.ca
SUMMARY:Search Team Office Admin meeting
DESCRIPTION:
URL:https://cottamunitedchurch.ca/event/search-team-office-admin-meeting-2/
LOCATION:Pastor’s Office
CATEGORIES:Committee Meetings
END:VEVENT
BEGIN:VEVENT
DTSTART;TZID=America/Toronto:20260412T111500
DTEND;TZID=America/Toronto:20260412T233000
DTSTAMP:20260420T124500
CREATED:20260407T162850Z
LAST-MODIFIED:20260407T162850Z
UID:10007990-1775992500-1776036600@cottamunitedchurch.ca
SUMMARY:SM&T meeting after worship
DESCRIPTION:
URL:https://cottamunitedchurch.ca/event/smt-meeting-after-worship/
LOCATION:Sanctuary\, 137 County Rd 34 W\, Cottam\, Ontario\, N0R 1B0\, Canada
CATEGORIES:Committee Meetings
END:VEVENT
BEGIN:VEVENT
DTSTART;TZID=America/Toronto:20260416T100000
DTEND;TZID=America/Toronto:20260416T110000
DTSTAMP:20260420T124500
CREATED:20251229T165721Z
LAST-MODIFIED:20260101T150308Z
UID:10007317-1776333600-1776337200@cottamunitedchurch.ca
SUMMARY:Prayer Group Online
DESCRIPTION:
URL:https://cottamunitedchurch.ca/event/prayer-group-online-2/2026-04-16/
LOCATION:online
CATEGORIES:Committee Meetings
END:VEVENT
END:VCALENDAR