BEGIN:VCALENDAR
VERSION:2.0
PRODID:-//Cottam United Church - ECPv6.15.20//NONSGML v1.0//EN
CALSCALE:GREGORIAN
METHOD:PUBLISH
X-WR-CALNAME:Cottam United Church
X-ORIGINAL-URL:https://cottamunitedchurch.ca
X-WR-CALDESC:Events for Cottam United Church
REFRESH-INTERVAL;VALUE=DURATION:PT1H
X-Robots-Tag:noindex
X-PUBLISHED-TTL:PT1H
BEGIN:VTIMEZONE
TZID:America/Toronto
BEGIN:DAYLIGHT
TZOFFSETFROM:-0500
TZOFFSETTO:-0400
TZNAME:EDT
DTSTART:20280312T070000
END:DAYLIGHT
BEGIN:STANDARD
TZOFFSETFROM:-0400
TZOFFSETTO:-0500
TZNAME:EST
DTSTART:20281105T060000
END:STANDARD
BEGIN:DAYLIGHT
TZOFFSETFROM:-0500
TZOFFSETTO:-0400
TZNAME:EDT
DTSTART:20290311T070000
END:DAYLIGHT
BEGIN:STANDARD
TZOFFSETFROM:-0400
TZOFFSETTO:-0500
TZNAME:EST
DTSTART:20291104T060000
END:STANDARD
BEGIN:DAYLIGHT
TZOFFSETFROM:-0500
TZOFFSETTO:-0400
TZNAME:EDT
DTSTART:20300310T070000
END:DAYLIGHT
BEGIN:STANDARD
TZOFFSETFROM:-0400
TZOFFSETTO:-0500
TZNAME:EST
DTSTART:20301103T060000
END:STANDARD
END:VTIMEZONE
BEGIN:VEVENT
DTSTART;TZID=America/Toronto:20290102T190000
DTEND;TZID=America/Toronto:20290102T203000
DTSTAMP:20260422T175950
CREATED:20260219T135458Z
LAST-MODIFIED:20260409T221838Z
UID:10007955-1862074800-1862080200@cottamunitedchurch.ca
SUMMARY:Social Media & Technology Committee meeting
DESCRIPTION:
URL:https://cottamunitedchurch.ca/event/social-media-technology-committee-meeting/2029-01-02/
LOCATION:online
CATEGORIES:Committee Meetings
END:VEVENT
BEGIN:VEVENT
DTSTART;TZID=America/Toronto:20290116T190000
DTEND;TZID=America/Toronto:20290116T203000
DTSTAMP:20260422T175950
CREATED:20260218T193703Z
LAST-MODIFIED:20260218T193703Z
UID:10007892-1863284400-1863289800@cottamunitedchurch.ca
SUMMARY:Church Board meeting
DESCRIPTION:
URL:https://cottamunitedchurch.ca/event/church-board-meeting-3/2029-01-16/
LOCATION:Cottam United Church\, 137 County Rd 34 W\, Cottam\, Ontario\, N0R 1B0\, Canada
CATEGORIES:Committee Meetings
END:VEVENT
END:VCALENDAR