BEGIN:VCALENDAR
VERSION:2.0
PRODID:-//Cottam United Church - ECPv6.15.19//NONSGML v1.0//EN
CALSCALE:GREGORIAN
METHOD:PUBLISH
X-ORIGINAL-URL:https://cottamunitedchurch.ca
X-WR-CALDESC:Events for Cottam United Church
REFRESH-INTERVAL;VALUE=DURATION:PT1H
X-Robots-Tag:noindex
X-PUBLISHED-TTL:PT1H
BEGIN:VTIMEZONE
TZID:America/Toronto
BEGIN:DAYLIGHT
TZOFFSETFROM:-0500
TZOFFSETTO:-0400
TZNAME:EDT
DTSTART:20250309T070000
END:DAYLIGHT
BEGIN:STANDARD
TZOFFSETFROM:-0400
TZOFFSETTO:-0500
TZNAME:EST
DTSTART:20251102T060000
END:STANDARD
BEGIN:DAYLIGHT
TZOFFSETFROM:-0500
TZOFFSETTO:-0400
TZNAME:EDT
DTSTART:20260308T070000
END:DAYLIGHT
BEGIN:STANDARD
TZOFFSETFROM:-0400
TZOFFSETTO:-0500
TZNAME:EST
DTSTART:20261101T060000
END:STANDARD
BEGIN:DAYLIGHT
TZOFFSETFROM:-0500
TZOFFSETTO:-0400
TZNAME:EDT
DTSTART:20270314T070000
END:DAYLIGHT
BEGIN:STANDARD
TZOFFSETFROM:-0400
TZOFFSETTO:-0500
TZNAME:EST
DTSTART:20271107T060000
END:STANDARD
END:VTIMEZONE
BEGIN:VEVENT
DTSTART;TZID=America/Toronto:20260106T190000
DTEND;TZID=America/Toronto:20260106T203000
DTSTAMP:20260420T141450
CREATED:20251022T170319Z
LAST-MODIFIED:20251211T140954Z
UID:10007654-1767726000-1767731400@cottamunitedchurch.ca
SUMMARY:Church Board meeting
DESCRIPTION:
URL:https://cottamunitedchurch.ca/event/church-board-meeting/
LOCATION:Pastor’s Office
CATEGORIES:Committee Meetings
END:VEVENT
BEGIN:VEVENT
DTSTART;TZID=America/Toronto:20260108T100000
DTEND;TZID=America/Toronto:20260108T110000
DTSTAMP:20260420T141450
CREATED:20251229T165721Z
LAST-MODIFIED:20260101T150308Z
UID:10007303-1767866400-1767870000@cottamunitedchurch.ca
SUMMARY:Prayer Group Online
DESCRIPTION:
URL:https://cottamunitedchurch.ca/event/prayer-group-online-2/2026-01-08/
LOCATION:online
CATEGORIES:Committee Meetings
END:VEVENT
BEGIN:VEVENT
DTSTART;TZID=America/Toronto:20260113T190000
DTEND;TZID=America/Toronto:20260113T203000
DTSTAMP:20260420T141450
CREATED:20241219T160043Z
LAST-MODIFIED:20251229T165841Z
UID:10006217-1768330800-1768336200@cottamunitedchurch.ca
SUMMARY:Worship and SM&T Committees meeting
DESCRIPTION:
URL:https://cottamunitedchurch.ca/event/worship-committee-meeting-2/
LOCATION:Pastor’s Office
CATEGORIES:Committee Meetings
ORGANIZER;CN="Worship Committee":MAILTO:info@cottamunitedchurch.ca
END:VEVENT
BEGIN:VEVENT
DTSTART;TZID=America/Toronto:20260115T100000
DTEND;TZID=America/Toronto:20260115T110000
DTSTAMP:20260420T141450
CREATED:20251229T165721Z
LAST-MODIFIED:20260101T150308Z
UID:10007304-1768471200-1768474800@cottamunitedchurch.ca
SUMMARY:Prayer Group Online
DESCRIPTION:
URL:https://cottamunitedchurch.ca/event/prayer-group-online-2/2026-01-15/
LOCATION:online
CATEGORIES:Committee Meetings
END:VEVENT
BEGIN:VEVENT
DTSTART;TZID=America/Toronto:20260117T100000
DTEND;TZID=America/Toronto:20260117T113000
DTSTAMP:20260420T141450
CREATED:20251229T173340Z
LAST-MODIFIED:20251229T173340Z
UID:10007746-1768644000-1768649400@cottamunitedchurch.ca
SUMMARY:Shared Ministry Committee meeting
DESCRIPTION:
URL:https://cottamunitedchurch.ca/event/shared-ministry-committee-meeting/
LOCATION:Wheatley United Church
CATEGORIES:Committee Meetings
END:VEVENT
BEGIN:VEVENT
DTSTART;TZID=America/Toronto:20260120T183000
DTEND;TZID=America/Toronto:20260120T200000
DTSTAMP:20260420T141450
CREATED:20250407T131917Z
LAST-MODIFIED:20251209T142526Z
UID:10006694-1768933800-1768939200@cottamunitedchurch.ca
SUMMARY:Finance Committee meeting
DESCRIPTION:
URL:https://cottamunitedchurch.ca/event/finance-committee-meeting-2/
LOCATION:online
CATEGORIES:Committee Meetings
END:VEVENT
BEGIN:VEVENT
DTSTART;TZID=America/Toronto:20260121T190000
DTEND;TZID=America/Toronto:20260121T203000
DTSTAMP:20260420T141450
CREATED:20250409T162606Z
LAST-MODIFIED:20260102T135904Z
UID:10006696-1769022000-1769027400@cottamunitedchurch.ca
SUMMARY:Pastoral Care & Visitation Committee meeting
DESCRIPTION:
URL:https://cottamunitedchurch.ca/event/pastoral-care-visitation-committee-meeting/
LOCATION:Pastor’s Office
CATEGORIES:Committee Meetings
END:VEVENT
BEGIN:VEVENT
DTSTART;TZID=America/Toronto:20260122T100000
DTEND;TZID=America/Toronto:20260122T110000
DTSTAMP:20260420T141450
CREATED:20251229T165721Z
LAST-MODIFIED:20260101T150308Z
UID:10007305-1769076000-1769079600@cottamunitedchurch.ca
SUMMARY:Prayer Group Online
DESCRIPTION:
URL:https://cottamunitedchurch.ca/event/prayer-group-online-2/2026-01-22/
LOCATION:online
CATEGORIES:Committee Meetings
END:VEVENT
BEGIN:VEVENT
DTSTART;TZID=America/Toronto:20260128T183000
DTEND;TZID=America/Toronto:20260128T200000
DTSTAMP:20260420T141450
CREATED:20260121T153102Z
LAST-MODIFIED:20260121T153102Z
UID:10007826-1769625000-1769630400@cottamunitedchurch.ca
SUMMARY:Children's Education Committee meeting
DESCRIPTION:
URL:https://cottamunitedchurch.ca/event/childrens-education-committee-meeting/
LOCATION:Albuna Room
CATEGORIES:Committee Meetings
END:VEVENT
BEGIN:VEVENT
DTSTART;TZID=America/Toronto:20260129T100000
DTEND;TZID=America/Toronto:20260129T110000
DTSTAMP:20260420T141450
CREATED:20251229T165721Z
LAST-MODIFIED:20260101T150308Z
UID:10007306-1769680800-1769684400@cottamunitedchurch.ca
SUMMARY:Prayer Group Online
DESCRIPTION:
URL:https://cottamunitedchurch.ca/event/prayer-group-online-2/2026-01-29/
LOCATION:online
CATEGORIES:Committee Meetings
END:VEVENT
END:VCALENDAR